BEGIN:VCALENDAR
VERSION:2.0
PRODID:icalendar-ruby
CALSCALE:GREGORIAN
METHOD:PUBLISH
BEGIN:VEVENT
DTSTAMP:20260422T120009Z
UID:44-202942@newhopeibc.org
DTSTART:20260425T130000Z
DTEND:20260425T160000Z
CLASS:PUBLIC
CREATED:20260407T122558
DESCRIPTION:We are hosting a workday with Community Worx. Several opportuni
 ties to help.....making crafts\, packing bags\, and sorting tags. If you w
 ould like to help\, sign up by the elevator or contact the church office.
  
LAST-MODIFIED:20260407T122558
LOCATION:New Hope Baptist Church
SUMMARY:Partnering with Community Worx- Volunteer Workday
URL;VALUE=URI:https://newhopeibc.org/events/partnering-with-community-worx-
 volunteer-workday/2026-04-25
ATTACH;FILENAME=volunteer-human-hands-holding-colorful-letters-photo.jpg;FM
 TTYPE=image/jpeg:https://dq5pwpg1q8ru0.cloudfront.net/2026/04/07/16/25/58/
 ad026bf6-86d3-4ef7-84b5-95e33a8a165a/volunteer-human-hands-holding-colorfu
 l-letters-photo.jpg
END:VEVENT
END:VCALENDAR
